BEGIN:VCALENDAR
VERSION:2.0
PRODID:-//Southern Tier Interfaith Coalition (STIC) - ECPv6.15.20//NONSGML v1.0//EN
CALSCALE:GREGORIAN
METHOD:PUBLISH
X-WR-CALNAME:Southern Tier Interfaith Coalition (STIC)
X-ORIGINAL-URL:https://sticinterfaith.org
X-WR-CALDESC:Events for Southern Tier Interfaith Coalition (STIC)
REFRESH-INTERVAL;VALUE=DURATION:PT1H
X-Robots-Tag:noindex
X-PUBLISHED-TTL:PT1H
BEGIN:VTIMEZONE
TZID:America/New_York
BEGIN:DAYLIGHT
TZOFFSETFROM:-0500
TZOFFSETTO:-0400
TZNAME:EDT
DTSTART:20230312T070000
END:DAYLIGHT
BEGIN:STANDARD
TZOFFSETFROM:-0400
TZOFFSETTO:-0500
TZNAME:EST
DTSTART:20231105T060000
END:STANDARD
BEGIN:DAYLIGHT
TZOFFSETFROM:-0500
TZOFFSETTO:-0400
TZNAME:EDT
DTSTART:20240310T070000
END:DAYLIGHT
BEGIN:STANDARD
TZOFFSETFROM:-0400
TZOFFSETTO:-0500
TZNAME:EST
DTSTART:20241103T060000
END:STANDARD
BEGIN:DAYLIGHT
TZOFFSETFROM:-0500
TZOFFSETTO:-0400
TZNAME:EDT
DTSTART:20250309T070000
END:DAYLIGHT
BEGIN:STANDARD
TZOFFSETFROM:-0400
TZOFFSETTO:-0500
TZNAME:EST
DTSTART:20251102T060000
END:STANDARD
END:VTIMEZONE
BEGIN:VEVENT
DTSTART;TZID=America/New_York:20241013T140000
DTEND;TZID=America/New_York:20241013T170000
DTSTAMP:20260419T150539
CREATED:20240911T235844Z
LAST-MODIFIED:20240912T141925Z
UID:6277-1728828000-1728838800@sticinterfaith.org
SUMMARY:Abraham Path Walk 2024
DESCRIPTION:12th Annual event\, sponsored by the Southern Tier Interfaith Coalition (STIC)\n\n\n\nArtwork: Gokden Alpman Matthews. Photo: Kay Campbell. 2014.\n\n\n\nPeople of Faith Walking Together for greater understanding and compassion\n\n\n\nThis year we walk together in the public sphere in downtown Elmira.  \n\n\n\nThis one-mile walk brings interfaith partners together and is based on the story of Abraham\, a prophet common to Judaism\, Christianity and Islam.\n\n\n\nSunday\, October 13th\, 2024 @ 2:00 PM \n\n\n\n\n\n\nBegin in the parking lot of The Park Church (208 W. Gray Street\, Elmira)\n\n\n\nWalk with someone of another faith community to the Elmira City Hall\, Chemung County Courthouse and then back to Wisner Park\n\n\n\nThen drive to the IAFL Islamic Center of the Finger Lakes (499 Hickory Grove Rd. Horseheads) for a reception and STIC Annual Meeting.\n\n\n\nIf you’re not interested in walking\, come to the reception and annual meeting at IAFL at 3:30 p.m.\n\n\n\n\nFor more information go to https://www.sticinterfaith.org/about or contact: Imam Zaman Marwat\, 607-562-3869\, sufizaman@yahoo.com Debra Todd\, 607-734-0908\, dctodd321@gmail.com \n\n\n\n\nDarkness cannot drive out darkness; only light can do that.Hate cannot drive out hate; only love can do that. \nRev. Dr. Martin Luther King\, Jr.\n\n\n\nThe walk is open to everyone\, at no charge. Individuals unable to walk the route are welcome to drive from point to point\, car pool with others to complete the questions\, and/or participate in the reception.
URL:https://sticinterfaith.org/event/abraham-path-walk-2024/
LOCATION:Park Church\, 208 W. Gray St\, Elmira\, New York\, 14901\, United States
ATTACH;FMTTYPE=image/jpeg:https://sticinterfaith.org/app/uploads/2023/09/IMG_9047-scaled.jpeg
END:VEVENT
END:VCALENDAR