BEGIN:VCALENDAR
VERSION:2.0
PRODID:-//Southern Tier Interfaith Coalition (STIC) - ECPv6.15.20//NONSGML v1.0//EN
CALSCALE:GREGORIAN
METHOD:PUBLISH
X-ORIGINAL-URL:https://sticinterfaith.org
X-WR-CALDESC:Events for Southern Tier Interfaith Coalition (STIC)
REFRESH-INTERVAL;VALUE=DURATION:PT1H
X-Robots-Tag:noindex
X-PUBLISHED-TTL:PT1H
BEGIN:VTIMEZONE
TZID:America/New_York
BEGIN:DAYLIGHT
TZOFFSETFROM:-0500
TZOFFSETTO:-0400
TZNAME:EDT
DTSTART:20200308T070000
END:DAYLIGHT
BEGIN:STANDARD
TZOFFSETFROM:-0400
TZOFFSETTO:-0500
TZNAME:EST
DTSTART:20201101T060000
END:STANDARD
BEGIN:DAYLIGHT
TZOFFSETFROM:-0500
TZOFFSETTO:-0400
TZNAME:EDT
DTSTART:20210314T070000
END:DAYLIGHT
BEGIN:STANDARD
TZOFFSETFROM:-0400
TZOFFSETTO:-0500
TZNAME:EST
DTSTART:20211107T060000
END:STANDARD
BEGIN:DAYLIGHT
TZOFFSETFROM:-0500
TZOFFSETTO:-0400
TZNAME:EDT
DTSTART:20220313T070000
END:DAYLIGHT
BEGIN:STANDARD
TZOFFSETFROM:-0400
TZOFFSETTO:-0500
TZNAME:EST
DTSTART:20221106T060000
END:STANDARD
END:VTIMEZONE
BEGIN:VEVENT
DTSTART;TZID=America/New_York:20210608T164500
DTEND;TZID=America/New_York:20210608T180000
DTSTAMP:20260424T175123
CREATED:20210605T152101Z
LAST-MODIFIED:20221006T201003Z
UID:4855-1623170700-1623175200@sticinterfaith.org
SUMMARY:Interfaith Rally for Palestine: Call to Action
DESCRIPTION:With the increase of Israel’s ongoing persistent state and settler violence against Palestinians\, it is our duty as people of faith and conscience to raise our voices and to listen to the voices of our Palestinian neighbors who have been silenced too long. We invite you to join our call for action in front of Rep. Tom Reed’s office. As his constituents\, we have the right to make a demand that our tax dollars are not used for perpetuating injustice against the Palestinians.\nIt will be a peaceful rally where we will hear voices of Palestine speaking for all to hear. \n\n\n\n\nSponsors: Ithaca JVP (Jewish Voice for Peace)\, Muslims of Southern Tier (MOST)\, Ithaca Catholic Worker\, Southern Tier Interfaith Coalition\, Episcopal Palestine-Israel Network\, International Veterans Fellowship of Reconciliation. \n\n\n\n\n\n\n\n\n\n\n\n\n\n\n\n 
URL:https://sticinterfaith.org/event/interfaith-rally-for-palestine-call-to-action/
LOCATION:Congressman Reed’s Corning Office\, 89 West Market St.\, Corning\, NY\, 14830\, United States
CATEGORIES:Israel and Palestine
ATTACH;FMTTYPE=image/jpeg:https://sticinterfaith.org/app/uploads/2021/06/palestine-rally.jpg
END:VEVENT
END:VCALENDAR