BEGIN:VCALENDAR
VERSION:2.0
PRODID:-//Southern Tier Interfaith Coalition (STIC) - ECPv6.15.20//NONSGML v1.0//EN
CALSCALE:GREGORIAN
METHOD:PUBLISH
X-ORIGINAL-URL:https://sticinterfaith.org
X-WR-CALDESC:Events for Southern Tier Interfaith Coalition (STIC)
REFRESH-INTERVAL;VALUE=DURATION:PT1H
X-Robots-Tag:noindex
X-PUBLISHED-TTL:PT1H
BEGIN:VTIMEZONE
TZID:America/New_York
BEGIN:DAYLIGHT
TZOFFSETFROM:-0500
TZOFFSETTO:-0400
TZNAME:EDT
DTSTART:20200308T070000
END:DAYLIGHT
BEGIN:STANDARD
TZOFFSETFROM:-0400
TZOFFSETTO:-0500
TZNAME:EST
DTSTART:20201101T060000
END:STANDARD
BEGIN:DAYLIGHT
TZOFFSETFROM:-0500
TZOFFSETTO:-0400
TZNAME:EDT
DTSTART:20210314T070000
END:DAYLIGHT
BEGIN:STANDARD
TZOFFSETFROM:-0400
TZOFFSETTO:-0500
TZNAME:EST
DTSTART:20211107T060000
END:STANDARD
BEGIN:DAYLIGHT
TZOFFSETFROM:-0500
TZOFFSETTO:-0400
TZNAME:EDT
DTSTART:20220313T070000
END:DAYLIGHT
BEGIN:STANDARD
TZOFFSETFROM:-0400
TZOFFSETTO:-0500
TZNAME:EST
DTSTART:20221106T060000
END:STANDARD
END:VTIMEZONE
BEGIN:VEVENT
DTSTART;TZID=America/New_York:20211010T140000
DTEND;TZID=America/New_York:20211010T170000
DTSTAMP:20260422T223635
CREATED:20210929T143642Z
LAST-MODIFIED:20221006T200105Z
UID:5090-1633874400-1633885200@sticinterfaith.org
SUMMARY:Abraham Path Walk for Interfaith Understanding
DESCRIPTION:Our walk begins at Congregation Kol Ami\, 1008 W. Water St.\, Elmira. After hearing about their history and faith\, we will walk to Bethany Lutheran Church. Walk east on W. Water St.\, turn right on Walnut St. to cross the bridge\, and the church will be on the right. After learning about their history and faith\, return to Congregation Kol Ami to pick up your car. Then drive to The Islamic Association of the Finger Lakes Center\, 499 Hickory Grove Rd.\, Horseheads. Head east on W. Water St.\, Take a sharp left on NY 17W/ I- 86 West ramp. Take I-86 to Exit 51B for Colonial Dr. Turn left onto Colonial Dr\, then right onto Hickory Grove Rd. The IAFL is on the right. The congregation of the Islamic Center has prepared refreshments for you. \n\n\n\nCelebrate Diversity – Bumper Sticker / Decal. Peace Resource Project\n\n\n\nCoexist\n\n\n\nFor the Walk: \nChoose to walk with someone you do not know. \nTake turns sharing the answers to these questions with each other. \nPractice deep listening for peace and understanding. \n\nWhat is your name and where do you live?\nWhat is your current faith and/or spiritual practice?\nIs it the same or different than your family’s traditionwhen you were growing up?\nDo you have memories to share about your childhoodfaith?\nWhat religious holidays did your family participate in?\nWere you involved in faith activities as a teen?\nWas there a time when your beliefs changed?\nDoes your current faith practice suit your needs?\nIn what ways are you involved\, or what things are youseeking?\nDo you have friends or acquaintances of other faiths?\nHave you visited their places of worship or participated indifferent religious activities?\nCan you articulate your beliefs about God?\nIs there a place where you feel especially close to God?\nDo you have a spiritual practice? Can you describe it?\nAre there rituals that you practice to connect to God?\nAre you a person who prays? How does that impactyour daily life?\nWhat do you believe happens after one dies?\nAre your religious beliefs helpful tools for your decision-making?\nDo you believe that people have a certain purpose toaccomplish in their life?\n“As you shine your light\, you provide space for others toshine theirs\, as well.” What does this statement mean toyou?\nWhat prevents people from living their full potential?\nWhich contemporary religious person do you mostadmire?\nWhat does it mean to you to live in the present moment?\nDo you believe that we are all connected? How does thatimpact your life?\nWhat five things are you most grateful for?\nHave you ever experienced a miracle?\n\nThank you for participating today. \n\n\n\nDownload the STIC – 2021 Abraham Walk – Directions and Questions bifold. PDF (437k) \n\n\n\n\n\n \n\n\n\nFor more information or to join Southern Tier Interfaith Coalitionfind us on Facebook athttps://www.facebook.com/SouthernTierInterfaithCoalition/
URL:https://sticinterfaith.org/event/abraham-path-walk-for-interfaith-understanding/
CATEGORIES:Abrahamic Walk
ATTACH;FMTTYPE=image/jpeg:https://sticinterfaith.org/app/uploads/2021/09/large-abrahmaic.jpg
END:VEVENT
END:VCALENDAR